BEGIN:VCALENDAR
VERSION:2.0
PRODID:-//Dorfleben Wrestedt e.V. - ECPv6.15.20//NONSGML v1.0//EN
CALSCALE:GREGORIAN
METHOD:PUBLISH
X-WR-CALNAME:Dorfleben Wrestedt e.V.
X-ORIGINAL-URL:https://dorfleben-wrestedt.de
X-WR-CALDESC:Veranstaltungen für Dorfleben Wrestedt e.V.
REFRESH-INTERVAL;VALUE=DURATION:PT1H
X-Robots-Tag:noindex
X-PUBLISHED-TTL:PT1H
BEGIN:VTIMEZONE
TZID:Europe/Berlin
BEGIN:DAYLIGHT
TZOFFSETFROM:+0100
TZOFFSETTO:+0200
TZNAME:CEST
DTSTART:20250330T010000
END:DAYLIGHT
BEGIN:STANDARD
TZOFFSETFROM:+0200
TZOFFSETTO:+0100
TZNAME:CET
DTSTART:20251026T010000
END:STANDARD
BEGIN:DAYLIGHT
TZOFFSETFROM:+0100
TZOFFSETTO:+0200
TZNAME:CEST
DTSTART:20260329T010000
END:DAYLIGHT
BEGIN:STANDARD
TZOFFSETFROM:+0200
TZOFFSETTO:+0100
TZNAME:CET
DTSTART:20261025T010000
END:STANDARD
BEGIN:DAYLIGHT
TZOFFSETFROM:+0100
TZOFFSETTO:+0200
TZNAME:CEST
DTSTART:20270328T010000
END:DAYLIGHT
BEGIN:STANDARD
TZOFFSETFROM:+0200
TZOFFSETTO:+0100
TZNAME:CET
DTSTART:20271031T010000
END:STANDARD
END:VTIMEZONE
BEGIN:VEVENT
DTSTART;TZID=Europe/Berlin:20260425T140000
DTEND;TZID=Europe/Berlin:20260425T180000
DTSTAMP:20260420T044219
CREATED:20260418T142200Z
LAST-MODIFIED:20260418T142803Z
UID:1853-1777125600-1777140000@dorfleben-wrestedt.de
SUMMARY:Fahrrad-Reparatur-Café
DESCRIPTION:🔦 Fahrrad-Reparatur-Café ☕️🍪 Hier wird wieder geschraubt\, geölt und getüftelt – alles\, damit dein Fahrrad frühlingsfit wird! \n\n\n\n🚲 Unter anderem steht euch erneut Alexander zur Verfügung. Als leidenschaftlicher Radfahrer und erfahrener Fahrradtüftler wird er euch mit wertvollen Tipps und Tricks unterstützen 🔎 und bringt euer Rad in Bestform für diekommende Saison! 🕶 🚵‍♀️ \n\n\n\n🌞 Für das leibliche Wohl ist mit Kuchen\, Waffeln und Eis bestens gesorgt. 😋 \n\n\n\nSchnappt eure Fahrräder und Freunde und kommt vorbei! Ihr könnt auch einfach auf eine Tasse Tee oder Kaffee vorbeikommen. Wir freuen uns\, dich zu sehen! 💛 \n\n\n\n🗓 Sa.\, 25. April⏱️ 14:00 – 18:00 Uhr📌 Elbers Hof – Nettelkamp \n\n\n\nKuKi – Deine Kulturkiste – Sozial.Nachhaltig \n\n\n\nkuki #Kulturkiste #FahrradReparaturCafé #frühling #nachhaltig Upcycling | Uelzen | Wrestedt | Nettelkamp | Gifhorn | Wendland \n\n\n\nhttps://www.instagram.com/p/DXORhO_DEwB/?igsh=MTVkcGhrYmtvM3BsNw== \n\n\n\n\n\n\n\n\n\n\nTeilen mit:\n				Auf Facebook teilen (Wird in neuem Fenster geöffnet)\n				Facebook\n			\n				Auf WhatsApp teilen (Wird in neuem Fenster geöffnet)\n				WhatsApp\n			Gefällt mir:Gefällt mir Wird geladen …
URL:https://dorfleben-wrestedt.de/event/fahrrad-reparatur-cafe/
LOCATION:Elbers Hof\, An der Kirche 5\, Wrestedt\, 29559\, Germany
END:VEVENT
BEGIN:VEVENT
DTSTART;TZID=Europe/Berlin:20260606T160000
DTEND;TZID=Europe/Berlin:20260606T210000
DTSTAMP:20260420T044219
CREATED:20260324T214529Z
LAST-MODIFIED:20260325T080521Z
UID:1803-1780761600-1780779600@dorfleben-wrestedt.de
SUMMARY:Wrestedter Weinfest
DESCRIPTION:Teilen mit:\n				Auf Facebook teilen (Wird in neuem Fenster geöffnet)\n				Facebook\n			\n				Auf WhatsApp teilen (Wird in neuem Fenster geöffnet)\n				WhatsApp\n			Gefällt mir:Gefällt mir Wird geladen …
URL:https://dorfleben-wrestedt.de/event/wrestedter-weinfest-2/
LOCATION:Bürgerpark Wrestedt\, Langdoren (hinter der Feuerwehr)\, Wrestedt\, 29559
ORGANIZER;CN="Dorfleben Wrestedt e.V.":MAILTO:info@dorfleben-wrestedt.de
END:VEVENT
BEGIN:VEVENT
DTSTART;TZID=Europe/Berlin:20260912T000000
DTEND;TZID=Europe/Berlin:20260913T235959
DTSTAMP:20260420T044219
CREATED:20260324T214928Z
LAST-MODIFIED:20260325T080555Z
UID:1805-1789171200-1789343999@dorfleben-wrestedt.de
SUMMARY:Herbstmarkt "Rund um den Ball"
DESCRIPTION:Teilen mit:\n				Auf Facebook teilen (Wird in neuem Fenster geöffnet)\n				Facebook\n			\n				Auf WhatsApp teilen (Wird in neuem Fenster geöffnet)\n				WhatsApp\n			Gefällt mir:Gefällt mir Wird geladen …
URL:https://dorfleben-wrestedt.de/event/herbstmarkt-rund-um-den-ball/
LOCATION:Wrestedter Marktscheune\, Katerburg 3\, Wrestedt\, 29559\, Deutschland
END:VEVENT
END:VCALENDAR